BEGIN:VCALENDAR
VERSION:2.0
PRODID:-//Cheshire Dance - ECPv6.10.1.1//NONSGML v1.0//EN
CALSCALE:GREGORIAN
METHOD:PUBLISH
X-WR-CALNAME:Cheshire Dance
X-ORIGINAL-URL:https://www.cheshiredance.org
X-WR-CALDESC:Events for Cheshire Dance
REFRESH-INTERVAL;VALUE=DURATION:PT1H
X-Robots-Tag:noindex
X-PUBLISHED-TTL:PT1H
BEGIN:VTIMEZONE
TZID:UTC
BEGIN:STANDARD
TZOFFSETFROM:+0000
TZOFFSETTO:+0000
TZNAME:UTC
DTSTART:20240101T000000
END:STANDARD
END:VTIMEZONE
BEGIN:VEVENT
DTSTART;TZID=UTC:20250319T173000
DTEND;TZID=UTC:20250319T183000
DTSTAMP:20260424T073154
CREATED:20241204T145951Z
LAST-MODIFIED:20241204T145951Z
UID:10001711-1742405400-1742409000@www.cheshiredance.org
SUMMARY:DS Dance Warrington (Spring Term)
DESCRIPTION:DS Dance Warrington is a dance group for people with Downs Syndrome\, run in partnership with Down Syndrome Cheshire.\nCome along to make friends and have fun. \nJoin us every Wednesday evening from 5.30pm-6.30pm (Term Time Only) at Pyramid Arts Centre\, WA1 1BL. \nTo attend\, contact: rebecca@dscheshire.org.uk \nFor information: www.dscheshire.org.uk \n\n\n\n\n\n\n  \n  \n 
URL:https://www.cheshiredance.org/event/ds-dance-warrington-spring-term/2025-03-19/
LOCATION:Pyramid Arts Centre\, Palmyra Square\, Warrington\, WA1 1BL\, United Kingdom
CATEGORIES:Children & Young People,Regular Class
ATTACH;FMTTYPE=image/jpeg:https://www.cheshiredance.org/wp-content/uploads/2023/11/Web-Graphic-DS-Warrington-2024.jpg
ORGANIZER;CN="Cheshire Dance":MAILTO:marketing@cheshiredance.org
END:VEVENT
BEGIN:VEVENT
DTSTART;TZID=UTC:20250312T173000
DTEND;TZID=UTC:20250312T183000
DTSTAMP:20260424T073154
CREATED:20241204T145951Z
LAST-MODIFIED:20241204T145951Z
UID:10001710-1741800600-1741804200@www.cheshiredance.org
SUMMARY:DS Dance Warrington (Spring Term)
DESCRIPTION:DS Dance Warrington is a dance group for people with Downs Syndrome\, run in partnership with Down Syndrome Cheshire.\nCome along to make friends and have fun. \nJoin us every Wednesday evening from 5.30pm-6.30pm (Term Time Only) at Pyramid Arts Centre\, WA1 1BL. \nTo attend\, contact: rebecca@dscheshire.org.uk \nFor information: www.dscheshire.org.uk \n\n\n\n\n\n\n  \n  \n 
URL:https://www.cheshiredance.org/event/ds-dance-warrington-spring-term/2025-03-12/
LOCATION:Pyramid Arts Centre\, Palmyra Square\, Warrington\, WA1 1BL\, United Kingdom
CATEGORIES:Children & Young People,Regular Class
ATTACH;FMTTYPE=image/jpeg:https://www.cheshiredance.org/wp-content/uploads/2023/11/Web-Graphic-DS-Warrington-2024.jpg
ORGANIZER;CN="Cheshire Dance":MAILTO:marketing@cheshiredance.org
END:VEVENT
BEGIN:VEVENT
DTSTART;TZID=UTC:20250305T173000
DTEND;TZID=UTC:20250305T183000
DTSTAMP:20260424T073154
CREATED:20241204T145951Z
LAST-MODIFIED:20241204T145951Z
UID:10001709-1741195800-1741199400@www.cheshiredance.org
SUMMARY:DS Dance Warrington (Spring Term)
DESCRIPTION:DS Dance Warrington is a dance group for people with Downs Syndrome\, run in partnership with Down Syndrome Cheshire.\nCome along to make friends and have fun. \nJoin us every Wednesday evening from 5.30pm-6.30pm (Term Time Only) at Pyramid Arts Centre\, WA1 1BL. \nTo attend\, contact: rebecca@dscheshire.org.uk \nFor information: www.dscheshire.org.uk \n\n\n\n\n\n\n  \n  \n 
URL:https://www.cheshiredance.org/event/ds-dance-warrington-spring-term/2025-03-05/
LOCATION:Pyramid Arts Centre\, Palmyra Square\, Warrington\, WA1 1BL\, United Kingdom
CATEGORIES:Children & Young People,Regular Class
ATTACH;FMTTYPE=image/jpeg:https://www.cheshiredance.org/wp-content/uploads/2023/11/Web-Graphic-DS-Warrington-2024.jpg
ORGANIZER;CN="Cheshire Dance":MAILTO:marketing@cheshiredance.org
END:VEVENT
BEGIN:VEVENT
DTSTART;TZID=UTC:20250226T173000
DTEND;TZID=UTC:20250226T183000
DTSTAMP:20260424T073154
CREATED:20241204T145951Z
LAST-MODIFIED:20241204T145951Z
UID:10001708-1740591000-1740594600@www.cheshiredance.org
SUMMARY:DS Dance Warrington (Spring Term)
DESCRIPTION:DS Dance Warrington is a dance group for people with Downs Syndrome\, run in partnership with Down Syndrome Cheshire.\nCome along to make friends and have fun. \nJoin us every Wednesday evening from 5.30pm-6.30pm (Term Time Only) at Pyramid Arts Centre\, WA1 1BL. \nTo attend\, contact: rebecca@dscheshire.org.uk \nFor information: www.dscheshire.org.uk \n\n\n\n\n\n\n  \n  \n 
URL:https://www.cheshiredance.org/event/ds-dance-warrington-spring-term/2025-02-26/
LOCATION:Pyramid Arts Centre\, Palmyra Square\, Warrington\, WA1 1BL\, United Kingdom
CATEGORIES:Children & Young People,Regular Class
ATTACH;FMTTYPE=image/jpeg:https://www.cheshiredance.org/wp-content/uploads/2023/11/Web-Graphic-DS-Warrington-2024.jpg
ORGANIZER;CN="Cheshire Dance":MAILTO:marketing@cheshiredance.org
END:VEVENT
BEGIN:VEVENT
DTSTART;TZID=UTC:20250212T173000
DTEND;TZID=UTC:20250212T183000
DTSTAMP:20260424T073154
CREATED:20241204T145951Z
LAST-MODIFIED:20241204T145951Z
UID:10001707-1739381400-1739385000@www.cheshiredance.org
SUMMARY:DS Dance Warrington (Spring Term)
DESCRIPTION:DS Dance Warrington is a dance group for people with Downs Syndrome\, run in partnership with Down Syndrome Cheshire.\nCome along to make friends and have fun. \nJoin us every Wednesday evening from 5.30pm-6.30pm (Term Time Only) at Pyramid Arts Centre\, WA1 1BL. \nTo attend\, contact: rebecca@dscheshire.org.uk \nFor information: www.dscheshire.org.uk \n\n\n\n\n\n\n  \n  \n 
URL:https://www.cheshiredance.org/event/ds-dance-warrington-spring-term/2025-02-12/
LOCATION:Pyramid Arts Centre\, Palmyra Square\, Warrington\, WA1 1BL\, United Kingdom
CATEGORIES:Children & Young People,Regular Class
ATTACH;FMTTYPE=image/jpeg:https://www.cheshiredance.org/wp-content/uploads/2023/11/Web-Graphic-DS-Warrington-2024.jpg
ORGANIZER;CN="Cheshire Dance":MAILTO:marketing@cheshiredance.org
END:VEVENT
BEGIN:VEVENT
DTSTART;TZID=UTC:20250205T173000
DTEND;TZID=UTC:20250205T183000
DTSTAMP:20260424T073154
CREATED:20241204T145951Z
LAST-MODIFIED:20241204T145951Z
UID:10001706-1738776600-1738780200@www.cheshiredance.org
SUMMARY:DS Dance Warrington (Spring Term)
DESCRIPTION:DS Dance Warrington is a dance group for people with Downs Syndrome\, run in partnership with Down Syndrome Cheshire.\nCome along to make friends and have fun. \nJoin us every Wednesday evening from 5.30pm-6.30pm (Term Time Only) at Pyramid Arts Centre\, WA1 1BL. \nTo attend\, contact: rebecca@dscheshire.org.uk \nFor information: www.dscheshire.org.uk \n\n\n\n\n\n\n  \n  \n 
URL:https://www.cheshiredance.org/event/ds-dance-warrington-spring-term/2025-02-05/
LOCATION:Pyramid Arts Centre\, Palmyra Square\, Warrington\, WA1 1BL\, United Kingdom
CATEGORIES:Children & Young People,Regular Class
ATTACH;FMTTYPE=image/jpeg:https://www.cheshiredance.org/wp-content/uploads/2023/11/Web-Graphic-DS-Warrington-2024.jpg
ORGANIZER;CN="Cheshire Dance":MAILTO:marketing@cheshiredance.org
END:VEVENT
BEGIN:VEVENT
DTSTART;TZID=UTC:20250129T173000
DTEND;TZID=UTC:20250129T183000
DTSTAMP:20260424T073154
CREATED:20241204T145951Z
LAST-MODIFIED:20241204T145951Z
UID:10001705-1738171800-1738175400@www.cheshiredance.org
SUMMARY:DS Dance Warrington (Spring Term)
DESCRIPTION:DS Dance Warrington is a dance group for people with Downs Syndrome\, run in partnership with Down Syndrome Cheshire.\nCome along to make friends and have fun. \nJoin us every Wednesday evening from 5.30pm-6.30pm (Term Time Only) at Pyramid Arts Centre\, WA1 1BL. \nTo attend\, contact: rebecca@dscheshire.org.uk \nFor information: www.dscheshire.org.uk \n\n\n\n\n\n\n  \n  \n 
URL:https://www.cheshiredance.org/event/ds-dance-warrington-spring-term/2025-01-29/
LOCATION:Pyramid Arts Centre\, Palmyra Square\, Warrington\, WA1 1BL\, United Kingdom
CATEGORIES:Children & Young People,Regular Class
ATTACH;FMTTYPE=image/jpeg:https://www.cheshiredance.org/wp-content/uploads/2023/11/Web-Graphic-DS-Warrington-2024.jpg
ORGANIZER;CN="Cheshire Dance":MAILTO:marketing@cheshiredance.org
END:VEVENT
BEGIN:VEVENT
DTSTART;TZID=UTC:20250122T173000
DTEND;TZID=UTC:20250122T183000
DTSTAMP:20260424T073154
CREATED:20241204T145951Z
LAST-MODIFIED:20241204T145951Z
UID:10001704-1737567000-1737570600@www.cheshiredance.org
SUMMARY:DS Dance Warrington (Spring Term)
DESCRIPTION:DS Dance Warrington is a dance group for people with Downs Syndrome\, run in partnership with Down Syndrome Cheshire.\nCome along to make friends and have fun. \nJoin us every Wednesday evening from 5.30pm-6.30pm (Term Time Only) at Pyramid Arts Centre\, WA1 1BL. \nTo attend\, contact: rebecca@dscheshire.org.uk \nFor information: www.dscheshire.org.uk \n\n\n\n\n\n\n  \n  \n 
URL:https://www.cheshiredance.org/event/ds-dance-warrington-spring-term/2025-01-22/
LOCATION:Pyramid Arts Centre\, Palmyra Square\, Warrington\, WA1 1BL\, United Kingdom
CATEGORIES:Children & Young People,Regular Class
ATTACH;FMTTYPE=image/jpeg:https://www.cheshiredance.org/wp-content/uploads/2023/11/Web-Graphic-DS-Warrington-2024.jpg
ORGANIZER;CN="Cheshire Dance":MAILTO:marketing@cheshiredance.org
END:VEVENT
BEGIN:VEVENT
DTSTART;TZID=UTC:20250115T173000
DTEND;TZID=UTC:20250115T183000
DTSTAMP:20260424T073154
CREATED:20241204T145951Z
LAST-MODIFIED:20241204T145951Z
UID:10001703-1736962200-1736965800@www.cheshiredance.org
SUMMARY:DS Dance Warrington (Spring Term)
DESCRIPTION:DS Dance Warrington is a dance group for people with Downs Syndrome\, run in partnership with Down Syndrome Cheshire.\nCome along to make friends and have fun. \nJoin us every Wednesday evening from 5.30pm-6.30pm (Term Time Only) at Pyramid Arts Centre\, WA1 1BL. \nTo attend\, contact: rebecca@dscheshire.org.uk \nFor information: www.dscheshire.org.uk \n\n\n\n\n\n\n  \n  \n 
URL:https://www.cheshiredance.org/event/ds-dance-warrington-spring-term/2025-01-15/
LOCATION:Pyramid Arts Centre\, Palmyra Square\, Warrington\, WA1 1BL\, United Kingdom
CATEGORIES:Children & Young People,Regular Class
ATTACH;FMTTYPE=image/jpeg:https://www.cheshiredance.org/wp-content/uploads/2023/11/Web-Graphic-DS-Warrington-2024.jpg
ORGANIZER;CN="Cheshire Dance":MAILTO:marketing@cheshiredance.org
END:VEVENT
BEGIN:VEVENT
DTSTART;TZID=UTC:20250108T173000
DTEND;TZID=UTC:20250108T183000
DTSTAMP:20260424T073154
CREATED:20241204T145951Z
LAST-MODIFIED:20241204T145951Z
UID:10001702-1736357400-1736361000@www.cheshiredance.org
SUMMARY:DS Dance Warrington (Spring Term)
DESCRIPTION:DS Dance Warrington is a dance group for people with Downs Syndrome\, run in partnership with Down Syndrome Cheshire.\nCome along to make friends and have fun. \nJoin us every Wednesday evening from 5.30pm-6.30pm (Term Time Only) at Pyramid Arts Centre\, WA1 1BL. \nTo attend\, contact: rebecca@dscheshire.org.uk \nFor information: www.dscheshire.org.uk \n\n\n\n\n\n\n  \n  \n 
URL:https://www.cheshiredance.org/event/ds-dance-warrington-spring-term/2025-01-08/
LOCATION:Pyramid Arts Centre\, Palmyra Square\, Warrington\, WA1 1BL\, United Kingdom
CATEGORIES:Children & Young People,Regular Class
ATTACH;FMTTYPE=image/jpeg:https://www.cheshiredance.org/wp-content/uploads/2023/11/Web-Graphic-DS-Warrington-2024.jpg
ORGANIZER;CN="Cheshire Dance":MAILTO:marketing@cheshiredance.org
END:VEVENT
BEGIN:VEVENT
DTSTART;TZID=UTC:20241218T173000
DTEND;TZID=UTC:20241218T183000
DTSTAMP:20260424T073154
CREATED:20240701T104331Z
LAST-MODIFIED:20240701T120245Z
UID:10001540-1734543000-1734546600@www.cheshiredance.org
SUMMARY:DS Dance Warrington (Autumn Term)
DESCRIPTION:DS Dance Warrington is a dance group for people with Downs Syndrome\, run in partnership with Down Syndrome Cheshire.\n  \nCome along to make friends and have fun. Join us every Wednesday evening from 5.30pm-6.30pm at Pyramid Arts Centre\, WA1 1BL. (Term Time Only). \n  \nTo attend\, contact: rebecca@dscheshire.org.uk \nFor information: www.dscheshire.org.uk \n\n\n  \n  \n  \n\n\n\n\n\n\n  \n  \n 
URL:https://www.cheshiredance.org/event/ds-dance-warrington-autumn-term/2024-12-18/
LOCATION:Pyramid Arts Centre\, Palmyra Square\, Warrington\, WA1 1BL\, United Kingdom
CATEGORIES:Children & Young People,Regular Class
ATTACH;FMTTYPE=image/jpeg:https://www.cheshiredance.org/wp-content/uploads/2023/11/Web-Graphic-DS-Warrington-2024.jpg
ORGANIZER;CN="Cheshire Dance":MAILTO:marketing@cheshiredance.org
END:VEVENT
BEGIN:VEVENT
DTSTART;TZID=UTC:20241211T173000
DTEND;TZID=UTC:20241211T183000
DTSTAMP:20260424T073154
CREATED:20240701T104331Z
LAST-MODIFIED:20240701T120245Z
UID:10001539-1733938200-1733941800@www.cheshiredance.org
SUMMARY:DS Dance Warrington (Autumn Term)
DESCRIPTION:DS Dance Warrington is a dance group for people with Downs Syndrome\, run in partnership with Down Syndrome Cheshire.\n  \nCome along to make friends and have fun. Join us every Wednesday evening from 5.30pm-6.30pm at Pyramid Arts Centre\, WA1 1BL. (Term Time Only). \n  \nTo attend\, contact: rebecca@dscheshire.org.uk \nFor information: www.dscheshire.org.uk \n\n\n  \n  \n  \n\n\n\n\n\n\n  \n  \n 
URL:https://www.cheshiredance.org/event/ds-dance-warrington-autumn-term/2024-12-11/
LOCATION:Pyramid Arts Centre\, Palmyra Square\, Warrington\, WA1 1BL\, United Kingdom
CATEGORIES:Children & Young People,Regular Class
ATTACH;FMTTYPE=image/jpeg:https://www.cheshiredance.org/wp-content/uploads/2023/11/Web-Graphic-DS-Warrington-2024.jpg
ORGANIZER;CN="Cheshire Dance":MAILTO:marketing@cheshiredance.org
END:VEVENT
BEGIN:VEVENT
DTSTART;TZID=UTC:20241204T173000
DTEND;TZID=UTC:20241204T183000
DTSTAMP:20260424T073154
CREATED:20240701T104331Z
LAST-MODIFIED:20240701T120245Z
UID:10001538-1733333400-1733337000@www.cheshiredance.org
SUMMARY:DS Dance Warrington (Autumn Term)
DESCRIPTION:DS Dance Warrington is a dance group for people with Downs Syndrome\, run in partnership with Down Syndrome Cheshire.\n  \nCome along to make friends and have fun. Join us every Wednesday evening from 5.30pm-6.30pm at Pyramid Arts Centre\, WA1 1BL. (Term Time Only). \n  \nTo attend\, contact: rebecca@dscheshire.org.uk \nFor information: www.dscheshire.org.uk \n\n\n  \n  \n  \n\n\n\n\n\n\n  \n  \n 
URL:https://www.cheshiredance.org/event/ds-dance-warrington-autumn-term/2024-12-04/
LOCATION:Pyramid Arts Centre\, Palmyra Square\, Warrington\, WA1 1BL\, United Kingdom
CATEGORIES:Children & Young People,Regular Class
ATTACH;FMTTYPE=image/jpeg:https://www.cheshiredance.org/wp-content/uploads/2023/11/Web-Graphic-DS-Warrington-2024.jpg
ORGANIZER;CN="Cheshire Dance":MAILTO:marketing@cheshiredance.org
END:VEVENT
BEGIN:VEVENT
DTSTART;TZID=UTC:20241127T173000
DTEND;TZID=UTC:20241127T183000
DTSTAMP:20260424T073154
CREATED:20240701T104331Z
LAST-MODIFIED:20240701T120245Z
UID:10001537-1732728600-1732732200@www.cheshiredance.org
SUMMARY:DS Dance Warrington (Autumn Term)
DESCRIPTION:DS Dance Warrington is a dance group for people with Downs Syndrome\, run in partnership with Down Syndrome Cheshire.\n  \nCome along to make friends and have fun. Join us every Wednesday evening from 5.30pm-6.30pm at Pyramid Arts Centre\, WA1 1BL. (Term Time Only). \n  \nTo attend\, contact: rebecca@dscheshire.org.uk \nFor information: www.dscheshire.org.uk \n\n\n  \n  \n  \n\n\n\n\n\n\n  \n  \n 
URL:https://www.cheshiredance.org/event/ds-dance-warrington-autumn-term/2024-11-27/
LOCATION:Pyramid Arts Centre\, Palmyra Square\, Warrington\, WA1 1BL\, United Kingdom
CATEGORIES:Children & Young People,Regular Class
ATTACH;FMTTYPE=image/jpeg:https://www.cheshiredance.org/wp-content/uploads/2023/11/Web-Graphic-DS-Warrington-2024.jpg
ORGANIZER;CN="Cheshire Dance":MAILTO:marketing@cheshiredance.org
END:VEVENT
BEGIN:VEVENT
DTSTART;TZID=UTC:20241120T173000
DTEND;TZID=UTC:20241120T183000
DTSTAMP:20260424T073154
CREATED:20240701T104331Z
LAST-MODIFIED:20240701T120245Z
UID:10001536-1732123800-1732127400@www.cheshiredance.org
SUMMARY:DS Dance Warrington (Autumn Term)
DESCRIPTION:DS Dance Warrington is a dance group for people with Downs Syndrome\, run in partnership with Down Syndrome Cheshire.\n  \nCome along to make friends and have fun. Join us every Wednesday evening from 5.30pm-6.30pm at Pyramid Arts Centre\, WA1 1BL. (Term Time Only). \n  \nTo attend\, contact: rebecca@dscheshire.org.uk \nFor information: www.dscheshire.org.uk \n\n\n  \n  \n  \n\n\n\n\n\n\n  \n  \n 
URL:https://www.cheshiredance.org/event/ds-dance-warrington-autumn-term/2024-11-20/
LOCATION:Pyramid Arts Centre\, Palmyra Square\, Warrington\, WA1 1BL\, United Kingdom
CATEGORIES:Children & Young People,Regular Class
ATTACH;FMTTYPE=image/jpeg:https://www.cheshiredance.org/wp-content/uploads/2023/11/Web-Graphic-DS-Warrington-2024.jpg
ORGANIZER;CN="Cheshire Dance":MAILTO:marketing@cheshiredance.org
END:VEVENT
BEGIN:VEVENT
DTSTART;TZID=UTC:20241113T173000
DTEND;TZID=UTC:20241113T183000
DTSTAMP:20260424T073154
CREATED:20240701T104331Z
LAST-MODIFIED:20240701T120245Z
UID:10001535-1731519000-1731522600@www.cheshiredance.org
SUMMARY:DS Dance Warrington (Autumn Term)
DESCRIPTION:DS Dance Warrington is a dance group for people with Downs Syndrome\, run in partnership with Down Syndrome Cheshire.\n  \nCome along to make friends and have fun. Join us every Wednesday evening from 5.30pm-6.30pm at Pyramid Arts Centre\, WA1 1BL. (Term Time Only). \n  \nTo attend\, contact: rebecca@dscheshire.org.uk \nFor information: www.dscheshire.org.uk \n\n\n  \n  \n  \n\n\n\n\n\n\n  \n  \n 
URL:https://www.cheshiredance.org/event/ds-dance-warrington-autumn-term/2024-11-13/
LOCATION:Pyramid Arts Centre\, Palmyra Square\, Warrington\, WA1 1BL\, United Kingdom
CATEGORIES:Children & Young People,Regular Class
ATTACH;FMTTYPE=image/jpeg:https://www.cheshiredance.org/wp-content/uploads/2023/11/Web-Graphic-DS-Warrington-2024.jpg
ORGANIZER;CN="Cheshire Dance":MAILTO:marketing@cheshiredance.org
END:VEVENT
BEGIN:VEVENT
DTSTART;TZID=UTC:20241106T173000
DTEND;TZID=UTC:20241106T183000
DTSTAMP:20260424T073154
CREATED:20240701T104331Z
LAST-MODIFIED:20240701T120245Z
UID:10001534-1730914200-1730917800@www.cheshiredance.org
SUMMARY:DS Dance Warrington (Autumn Term)
DESCRIPTION:DS Dance Warrington is a dance group for people with Downs Syndrome\, run in partnership with Down Syndrome Cheshire.\n  \nCome along to make friends and have fun. Join us every Wednesday evening from 5.30pm-6.30pm at Pyramid Arts Centre\, WA1 1BL. (Term Time Only). \n  \nTo attend\, contact: rebecca@dscheshire.org.uk \nFor information: www.dscheshire.org.uk \n\n\n  \n  \n  \n\n\n\n\n\n\n  \n  \n 
URL:https://www.cheshiredance.org/event/ds-dance-warrington-autumn-term/2024-11-06/
LOCATION:Pyramid Arts Centre\, Palmyra Square\, Warrington\, WA1 1BL\, United Kingdom
CATEGORIES:Children & Young People,Regular Class
ATTACH;FMTTYPE=image/jpeg:https://www.cheshiredance.org/wp-content/uploads/2023/11/Web-Graphic-DS-Warrington-2024.jpg
ORGANIZER;CN="Cheshire Dance":MAILTO:marketing@cheshiredance.org
END:VEVENT
BEGIN:VEVENT
DTSTART;TZID=UTC:20241023T173000
DTEND;TZID=UTC:20241023T183000
DTSTAMP:20260424T073154
CREATED:20240701T104331Z
LAST-MODIFIED:20240701T120245Z
UID:10001533-1729704600-1729708200@www.cheshiredance.org
SUMMARY:DS Dance Warrington (Autumn Term)
DESCRIPTION:DS Dance Warrington is a dance group for people with Downs Syndrome\, run in partnership with Down Syndrome Cheshire.\n  \nCome along to make friends and have fun. Join us every Wednesday evening from 5.30pm-6.30pm at Pyramid Arts Centre\, WA1 1BL. (Term Time Only). \n  \nTo attend\, contact: rebecca@dscheshire.org.uk \nFor information: www.dscheshire.org.uk \n\n\n  \n  \n  \n\n\n\n\n\n\n  \n  \n 
URL:https://www.cheshiredance.org/event/ds-dance-warrington-autumn-term/2024-10-23/
LOCATION:Pyramid Arts Centre\, Palmyra Square\, Warrington\, WA1 1BL\, United Kingdom
CATEGORIES:Children & Young People,Regular Class
ATTACH;FMTTYPE=image/jpeg:https://www.cheshiredance.org/wp-content/uploads/2023/11/Web-Graphic-DS-Warrington-2024.jpg
ORGANIZER;CN="Cheshire Dance":MAILTO:marketing@cheshiredance.org
END:VEVENT
BEGIN:VEVENT
DTSTART;TZID=UTC:20241016T173000
DTEND;TZID=UTC:20241016T183000
DTSTAMP:20260424T073154
CREATED:20240701T104331Z
LAST-MODIFIED:20240701T120245Z
UID:10001532-1729099800-1729103400@www.cheshiredance.org
SUMMARY:DS Dance Warrington (Autumn Term)
DESCRIPTION:DS Dance Warrington is a dance group for people with Downs Syndrome\, run in partnership with Down Syndrome Cheshire.\n  \nCome along to make friends and have fun. Join us every Wednesday evening from 5.30pm-6.30pm at Pyramid Arts Centre\, WA1 1BL. (Term Time Only). \n  \nTo attend\, contact: rebecca@dscheshire.org.uk \nFor information: www.dscheshire.org.uk \n\n\n  \n  \n  \n\n\n\n\n\n\n  \n  \n 
URL:https://www.cheshiredance.org/event/ds-dance-warrington-autumn-term/2024-10-16/
LOCATION:Pyramid Arts Centre\, Palmyra Square\, Warrington\, WA1 1BL\, United Kingdom
CATEGORIES:Children & Young People,Regular Class
ATTACH;FMTTYPE=image/jpeg:https://www.cheshiredance.org/wp-content/uploads/2023/11/Web-Graphic-DS-Warrington-2024.jpg
ORGANIZER;CN="Cheshire Dance":MAILTO:marketing@cheshiredance.org
END:VEVENT
BEGIN:VEVENT
DTSTART;TZID=UTC:20241009T173000
DTEND;TZID=UTC:20241009T183000
DTSTAMP:20260424T073154
CREATED:20240701T104331Z
LAST-MODIFIED:20240701T120245Z
UID:10001531-1728495000-1728498600@www.cheshiredance.org
SUMMARY:DS Dance Warrington (Autumn Term)
DESCRIPTION:DS Dance Warrington is a dance group for people with Downs Syndrome\, run in partnership with Down Syndrome Cheshire.\n  \nCome along to make friends and have fun. Join us every Wednesday evening from 5.30pm-6.30pm at Pyramid Arts Centre\, WA1 1BL. (Term Time Only). \n  \nTo attend\, contact: rebecca@dscheshire.org.uk \nFor information: www.dscheshire.org.uk \n\n\n  \n  \n  \n\n\n\n\n\n\n  \n  \n 
URL:https://www.cheshiredance.org/event/ds-dance-warrington-autumn-term/2024-10-09/
LOCATION:Pyramid Arts Centre\, Palmyra Square\, Warrington\, WA1 1BL\, United Kingdom
CATEGORIES:Children & Young People,Regular Class
ATTACH;FMTTYPE=image/jpeg:https://www.cheshiredance.org/wp-content/uploads/2023/11/Web-Graphic-DS-Warrington-2024.jpg
ORGANIZER;CN="Cheshire Dance":MAILTO:marketing@cheshiredance.org
END:VEVENT
BEGIN:VEVENT
DTSTART;TZID=UTC:20241002T173000
DTEND;TZID=UTC:20241002T183000
DTSTAMP:20260424T073154
CREATED:20240701T104331Z
LAST-MODIFIED:20240701T120245Z
UID:10001530-1727890200-1727893800@www.cheshiredance.org
SUMMARY:DS Dance Warrington (Autumn Term)
DESCRIPTION:DS Dance Warrington is a dance group for people with Downs Syndrome\, run in partnership with Down Syndrome Cheshire.\n  \nCome along to make friends and have fun. Join us every Wednesday evening from 5.30pm-6.30pm at Pyramid Arts Centre\, WA1 1BL. (Term Time Only). \n  \nTo attend\, contact: rebecca@dscheshire.org.uk \nFor information: www.dscheshire.org.uk \n\n\n  \n  \n  \n\n\n\n\n\n\n  \n  \n 
URL:https://www.cheshiredance.org/event/ds-dance-warrington-autumn-term/2024-10-02/
LOCATION:Pyramid Arts Centre\, Palmyra Square\, Warrington\, WA1 1BL\, United Kingdom
CATEGORIES:Children & Young People,Regular Class
ATTACH;FMTTYPE=image/jpeg:https://www.cheshiredance.org/wp-content/uploads/2023/11/Web-Graphic-DS-Warrington-2024.jpg
ORGANIZER;CN="Cheshire Dance":MAILTO:marketing@cheshiredance.org
END:VEVENT
BEGIN:VEVENT
DTSTART;TZID=UTC:20240925T173000
DTEND;TZID=UTC:20240925T183000
DTSTAMP:20260424T073154
CREATED:20240701T104331Z
LAST-MODIFIED:20240701T120245Z
UID:10001529-1727285400-1727289000@www.cheshiredance.org
SUMMARY:DS Dance Warrington (Autumn Term)
DESCRIPTION:DS Dance Warrington is a dance group for people with Downs Syndrome\, run in partnership with Down Syndrome Cheshire.\n  \nCome along to make friends and have fun. Join us every Wednesday evening from 5.30pm-6.30pm at Pyramid Arts Centre\, WA1 1BL. (Term Time Only). \n  \nTo attend\, contact: rebecca@dscheshire.org.uk \nFor information: www.dscheshire.org.uk \n\n\n  \n  \n  \n\n\n\n\n\n\n  \n  \n 
URL:https://www.cheshiredance.org/event/ds-dance-warrington-autumn-term/2024-09-25/
LOCATION:Pyramid Arts Centre\, Palmyra Square\, Warrington\, WA1 1BL\, United Kingdom
CATEGORIES:Children & Young People,Regular Class
ATTACH;FMTTYPE=image/jpeg:https://www.cheshiredance.org/wp-content/uploads/2023/11/Web-Graphic-DS-Warrington-2024.jpg
ORGANIZER;CN="Cheshire Dance":MAILTO:marketing@cheshiredance.org
END:VEVENT
BEGIN:VEVENT
DTSTART;TZID=UTC:20240918T173000
DTEND;TZID=UTC:20240918T183000
DTSTAMP:20260424T073154
CREATED:20240701T104331Z
LAST-MODIFIED:20240701T120245Z
UID:10001528-1726680600-1726684200@www.cheshiredance.org
SUMMARY:DS Dance Warrington (Autumn Term)
DESCRIPTION:DS Dance Warrington is a dance group for people with Downs Syndrome\, run in partnership with Down Syndrome Cheshire.\n  \nCome along to make friends and have fun. Join us every Wednesday evening from 5.30pm-6.30pm at Pyramid Arts Centre\, WA1 1BL. (Term Time Only). \n  \nTo attend\, contact: rebecca@dscheshire.org.uk \nFor information: www.dscheshire.org.uk \n\n\n  \n  \n  \n\n\n\n\n\n\n  \n  \n 
URL:https://www.cheshiredance.org/event/ds-dance-warrington-autumn-term/2024-09-18/
LOCATION:Pyramid Arts Centre\, Palmyra Square\, Warrington\, WA1 1BL\, United Kingdom
CATEGORIES:Children & Young People,Regular Class
ATTACH;FMTTYPE=image/jpeg:https://www.cheshiredance.org/wp-content/uploads/2023/11/Web-Graphic-DS-Warrington-2024.jpg
ORGANIZER;CN="Cheshire Dance":MAILTO:marketing@cheshiredance.org
END:VEVENT
BEGIN:VEVENT
DTSTART;TZID=UTC:20240911T173000
DTEND;TZID=UTC:20240911T183000
DTSTAMP:20260424T073154
CREATED:20240701T104331Z
LAST-MODIFIED:20240701T120245Z
UID:10001527-1726075800-1726079400@www.cheshiredance.org
SUMMARY:DS Dance Warrington (Autumn Term)
DESCRIPTION:DS Dance Warrington is a dance group for people with Downs Syndrome\, run in partnership with Down Syndrome Cheshire.\n  \nCome along to make friends and have fun. Join us every Wednesday evening from 5.30pm-6.30pm at Pyramid Arts Centre\, WA1 1BL. (Term Time Only). \n  \nTo attend\, contact: rebecca@dscheshire.org.uk \nFor information: www.dscheshire.org.uk \n\n\n  \n  \n  \n\n\n\n\n\n\n  \n  \n 
URL:https://www.cheshiredance.org/event/ds-dance-warrington-autumn-term/2024-09-11/
LOCATION:Pyramid Arts Centre\, Palmyra Square\, Warrington\, WA1 1BL\, United Kingdom
CATEGORIES:Children & Young People,Regular Class
ATTACH;FMTTYPE=image/jpeg:https://www.cheshiredance.org/wp-content/uploads/2023/11/Web-Graphic-DS-Warrington-2024.jpg
ORGANIZER;CN="Cheshire Dance":MAILTO:marketing@cheshiredance.org
END:VEVENT
END:VCALENDAR