BEGIN:VCALENDAR
VERSION:2.0
PRODID:-//Cheshire Dance - ECPv6.10.1.1//NONSGML v1.0//EN
CALSCALE:GREGORIAN
METHOD:PUBLISH
X-ORIGINAL-URL:https://www.cheshiredance.org
X-WR-CALDESC:Events for Cheshire Dance
REFRESH-INTERVAL;VALUE=DURATION:PT1H
X-Robots-Tag:noindex
X-PUBLISHED-TTL:PT1H
BEGIN:VTIMEZONE
TZID:UTC
BEGIN:STANDARD
TZOFFSETFROM:+0000
TZOFFSETTO:+0000
TZNAME:UTC
DTSTART:20250101T000000
END:STANDARD
END:VTIMEZONE
BEGIN:VEVENT
DTSTART;TZID=UTC:20251202T093000
DTEND;TZID=UTC:20251202T110000
DTSTAMP:20260421T005324
CREATED:20250813T123203Z
LAST-MODIFIED:20250827T105517Z
UID:10002404-1764667800-1764673200@www.cheshiredance.org
SUMMARY:Move & Connect Chester (Autumn Term)
DESCRIPTION:Chester Community Class\nOpen Level Contemporary Dance Classes in Chester. Everyone welcome\, classes are accessible to all level\, abilities and experiences. \nRanging from guided improvisation to more formal dance exercises\, we awaken our bodies to find ease and flow\, to listen to sensations within and to play with the physical possibilities and personal expressions that arise. \n Classes will be led by experienced Chester based professional dance artists with a focus on making these sessions fun\, inclusive and accessible for all. \nPlease come and join us and bring a friend – alternate Tuesdays at Storyhouse (Studio). \nAll sessions are from 9.30 am – 11.00 am. \nCost: £3/£5/£8 depending on your individual circumstances- cash or card accepted on the day! \n  \n\n  \nIf you enjoy moving and connecting with others\, then this class is for you! \nFor more information\, contact Bettina Carpi at: bettinacarpi@hotmail.com. \n  \n\n  \n  \n 
URL:https://www.cheshiredance.org/event/move-connect-chester-autumn-term/2025-12-02/
LOCATION:Storyhouse\, Hunter St\, Chester\, CH1 2AR\, United Kingdom
CATEGORIES:Artist Development,Regular Class
ATTACH;FMTTYPE=image/png:https://www.cheshiredance.org/wp-content/uploads/2025/08/Move-and-Connect-web.png
ORGANIZER;CN="Cheshire Dance":MAILTO:marketing@cheshiredance.org
END:VEVENT
END:VCALENDAR