BEGIN:VCALENDAR
VERSION:2.0
PRODID:-//Cheshire Dance - ECPv6.10.1.1//NONSGML v1.0//EN
CALSCALE:GREGORIAN
METHOD:PUBLISH
X-WR-CALNAME:Cheshire Dance
X-ORIGINAL-URL:https://www.cheshiredance.org
X-WR-CALDESC:Events for Cheshire Dance
REFRESH-INTERVAL;VALUE=DURATION:PT1H
X-Robots-Tag:noindex
X-PUBLISHED-TTL:PT1H
BEGIN:VTIMEZONE
TZID:UTC
BEGIN:STANDARD
TZOFFSETFROM:+0000
TZOFFSETTO:+0000
TZNAME:UTC
DTSTART:20250101T000000
END:STANDARD
END:VTIMEZONE
BEGIN:VEVENT
DTSTART;TZID=UTC:20251125T113000
DTEND;TZID=UTC:20251125T123000
DTSTAMP:20260421T054802
CREATED:20250813T115139Z
LAST-MODIFIED:20250813T131116Z
UID:10002454-1764070200-1764073800@www.cheshiredance.org
SUMMARY:Live Well Dance Hazelmere (Autumn Term)
DESCRIPTION:Live Well Dance – Hazelmere\nJoin us at Hazelmere\, Winsford!\nDance & movement classes for ages 50+. Join us to have fun\, get active and meet others with an hour of moving and dancing for health and falls prevention. No experience needed! \nNo need to book\, just show up- come along and join the fun! \nPay £3 or £5 on the day! \nTuesdays\, 11:30am-12:30pm\, 2nd September- 16th December (no session 28th October). \nHazelmere\, Hambleton Way\, Winsford\, CW7 1TL \n\nPlease get in touch if any questions\,  call 01606 861770 or email us at classes@cheshiredance.org.
URL:https://www.cheshiredance.org/event/live-well-dance-hazelmere-autumn-term-2/2025-11-25/
LOCATION:Hazelmere\, Hambleton Way\, Winsford\, CW7 1TL\, United Kingdom
CATEGORIES:Older People,Regular Class
ATTACH;FMTTYPE=image/png:https://www.cheshiredance.org/wp-content/uploads/2025/08/Live-Well-Hazelmere-web.png
ORGANIZER;CN="Cheshire Dance":MAILTO:marketing@cheshiredance.org
END:VEVENT
BEGIN:VEVENT
DTSTART;TZID=UTC:20251125T113000
DTEND;TZID=UTC:20251125T123000
DTSTAMP:20260421T054802
CREATED:20250827T093005Z
LAST-MODIFIED:20250827T093512Z
UID:10002503-1764070200-1764073800@www.cheshiredance.org
SUMMARY:Live Well Dance Hazelmere (Autumn Term)
DESCRIPTION:Live Well Dance – Hazelmere\nJoin us at Hazelmere\, Winsford!\nDance & movement classes for ages 50+. Join us to have fun\, get active and meet others with an hour of moving and dancing for health and falls prevention. No experience needed! \nNo need to book\, just show up- come along and join the fun! \nPay £3 or £5 on the day! \nTuesdays\, 11:30am-12:30pm\, 23rd September- 16th December (no session 28th October). \nHazelmere\, Hambleton Way\, Winsford\, CW7 1TL \n\nPlease get in touch if any questions\,  call 01606 861770 or email us at classes@cheshiredance.org.
URL:https://www.cheshiredance.org/event/live-well-dance-hazelmere-autumn-term-3/2025-11-25/
LOCATION:Hazelmere\, Hambleton Way\, Winsford\, CW7 1TL\, United Kingdom
CATEGORIES:Older People,Regular Class
ATTACH;FMTTYPE=image/png:https://www.cheshiredance.org/wp-content/uploads/2025/08/Live-Well-Hazelmere-web.png
ORGANIZER;CN="Cheshire Dance":MAILTO:marketing@cheshiredance.org
END:VEVENT
BEGIN:VEVENT
DTSTART;TZID=UTC:20251125T190000
DTEND;TZID=UTC:20251125T203000
DTSTAMP:20260421T054802
CREATED:20250813T121035Z
LAST-MODIFIED:20250813T121035Z
UID:10002394-1764097200-1764102600@www.cheshiredance.org
SUMMARY:The Spotlight Project (Autumn Term)
DESCRIPTION:Calling all Young People in Winsford aged 11-18! \nJoin us for The Spotlight Project – fun\, friendly and active sessions to get you moving. \nTake part in dance & movement workshops every Tuesday evening\, 7pm-8:30pm\, 9th September – 16th December (no session 28th October). \nThe Spotlight Project is the chance to try something new\, meet new people\, get active and have fun. Beginners welcome\, this group is for all abilities and high school ages- no booking needed. \nAll sessions are FREE! What’s more\, there’ll be snacks\, time for chats and the opportunity to do something different on a Tuesday night at New Images\, Winsford Youth & Community Forum. \nFor any questions or queries\, pop over a message to classes@cheshiredance.org. \n\n  \n(Click to enlarge or download)\n\n 
URL:https://www.cheshiredance.org/event/the-spotlight-project-autumn-term-2/2025-11-25/
LOCATION:New Images Youth Centre\, Nixon Drive\, Winsford\, CW7 2HG\, United Kingdom
CATEGORIES:Children & Young People,Regular Class
ATTACH;FMTTYPE=image/jpeg:https://www.cheshiredance.org/wp-content/uploads/2021/11/Spotlight-logo-2025.jpg
ORGANIZER;CN="Cheshire Dance":MAILTO:marketing@cheshiredance.org
END:VEVENT
END:VCALENDAR